BEGIN:VCALENDAR
VERSION:2.0
PRODID:-//crossroadsatparkplace.org//NONSGML kigkonsult.se iCalcreator 2.30
 .10//
CALSCALE:GREGORIAN
METHOD:PUBLISH
UID:2c0413a1-51cb-4f81-9569-053b25f4ad17
X-WR-CALDESC:
X-WR-RELCALID:5fcd51c920bc2f6b83708465ac7cecf8
X-WR-TIMEZONE:America/Chicago
BEGIN:VTIMEZONE
TZID:America/Chicago
BEGIN:STANDARD
TZNAME:CST
DTSTART:20221106T020000
TZOFFSETFROM:-0500
TZOFFSETTO:-0600
RDATE:20231105T020000
RDATE:20241103T020000
END:STANDARD
BEGIN:DAYLIGHT
TZNAME:CDT
DTSTART:20230312T020000
TZOFFSETFROM:-0600
TZOFFSETTO:-0500
RDATE:20240310T020000
END:DAYLIGHT
END:VTIMEZONE
BEGIN:VEVENT
UID:27023a17-d45b-45d3-b3ed-ed0e93dfd2b0
DTSTAMP:20260424T061033Z
DESCRIPTION:
DTSTART;TZID=America/Chicago:20230906T100000
DTEND;TZID=America/Chicago:20230906T120000
LOCATION:
SUMMARY:Community Food Fair
END:VEVENT
END:VCALENDAR
