BEGIN:VCALENDAR
VERSION:2.0
PRODID:-//crossroadsatparkplace.org//NONSGML kigkonsult.se iCalcreator 2.30
 .10//
CALSCALE:GREGORIAN
METHOD:PUBLISH
UID:d0cef739-6090-40a1-9934-ea56822d206d
X-WR-CALDESC:
X-WR-RELCALID:49a8e82a6302782fc23c9a9de32adcaf
X-WR-TIMEZONE:America/Chicago
BEGIN:VTIMEZONE
TZID:America/Chicago
BEGIN:STANDARD
TZNAME:CST
DTSTART:20221106T020000
TZOFFSETFROM:-0500
TZOFFSETTO:-0600
RDATE:20231105T020000
RDATE:20241103T020000
END:STANDARD
BEGIN:DAYLIGHT
TZNAME:CDT
DTSTART:20230312T020000
TZOFFSETFROM:-0600
TZOFFSETTO:-0500
RDATE:20240310T020000
RDATE:20250309T020000
END:DAYLIGHT
END:VTIMEZONE
BEGIN:VEVENT
UID:438b02ff-e9b9-47f8-a1a9-b769158dbaef
DTSTAMP:20260424T060957Z
DESCRIPTION:
DTSTART;TZID=America/Chicago:20230927T100000
DTEND;TZID=America/Chicago:20230927T120000
LOCATION:
SUMMARY:Community Food Fair
END:VEVENT
END:VCALENDAR
