BEGIN:VCALENDAR
VERSION:2.0
PRODID:-//crossroadsatparkplace.org//NONSGML kigkonsult.se iCalcreator 2.30
 .10//
CALSCALE:GREGORIAN
METHOD:PUBLISH
UID:98db9177-50b5-4a5f-892a-8610766f1226
X-WR-CALDESC:
X-WR-RELCALID:7f4a29583fb7489ab7832fe8cc3ff61c
X-WR-TIMEZONE:America/Chicago
BEGIN:VTIMEZONE
TZID:America/Chicago
BEGIN:STANDARD
TZNAME:CST
DTSTART:20221106T020000
TZOFFSETFROM:-0500
TZOFFSETTO:-0600
RDATE:20231105T020000
RDATE:20241103T020000
END:STANDARD
BEGIN:DAYLIGHT
TZNAME:CDT
DTSTART:20230312T020000
TZOFFSETFROM:-0600
TZOFFSETTO:-0500
RDATE:20240310T020000
RDATE:20250309T020000
END:DAYLIGHT
END:VTIMEZONE
BEGIN:VEVENT
UID:7a5e5500-552e-4ee0-90bc-7dc9f4114bc2
DTSTAMP:20260424T043310Z
DESCRIPTION:
DTSTART;TZID=America/Chicago:20231018T100000
DTEND;TZID=America/Chicago:20231018T120000
LOCATION:
SUMMARY:Community Food Fair
END:VEVENT
END:VCALENDAR
