BEGIN:VCALENDAR
VERSION:2.0
PRODID:-//crossroadsatparkplace.org//NONSGML kigkonsult.se iCalcreator 2.30
 .10//
CALSCALE:GREGORIAN
METHOD:PUBLISH
UID:1270851a-835e-4e2f-896a-ac450f4624ce
X-WR-CALDESC:
X-WR-RELCALID:aeda7df7d939e71e72ea00fc4a5cad29
X-WR-TIMEZONE:America/Chicago
BEGIN:VTIMEZONE
TZID:America/Chicago
BEGIN:STANDARD
TZNAME:CST
DTSTART:20221106T020000
TZOFFSETFROM:-0500
TZOFFSETTO:-0600
RDATE:20231105T020000
RDATE:20241103T020000
END:STANDARD
BEGIN:DAYLIGHT
TZNAME:CDT
DTSTART:20230312T020000
TZOFFSETFROM:-0600
TZOFFSETTO:-0500
RDATE:20240310T020000
RDATE:20250309T020000
END:DAYLIGHT
END:VTIMEZONE
BEGIN:VEVENT
UID:64a35627-a290-467e-bde3-8260fc79aa41
DTSTAMP:20260424T043435Z
DESCRIPTION:
DTSTART;TZID=America/Chicago:20231025T100000
DTEND;TZID=America/Chicago:20231025T120000
LOCATION:
SUMMARY:Community Food Fair
END:VEVENT
END:VCALENDAR
