BEGIN:VCALENDAR
VERSION:2.0
PRODID:-//crossroadsatparkplace.org//NONSGML kigkonsult.se iCalcreator 2.30
 .10//
CALSCALE:GREGORIAN
METHOD:PUBLISH
UID:c5626d61-e547-477a-88dd-c82b7e179f06
X-WR-CALDESC:
X-WR-RELCALID:001ed890c0ffc2dcad451aef1e0c60bc
X-WR-TIMEZONE:America/Chicago
BEGIN:VTIMEZONE
TZID:America/Chicago
BEGIN:STANDARD
TZNAME:CST
DTSTART:20221106T020000
TZOFFSETFROM:-0500
TZOFFSETTO:-0600
RDATE:20231105T020000
RDATE:20241103T020000
END:STANDARD
BEGIN:DAYLIGHT
TZNAME:CDT
DTSTART:20230312T020000
TZOFFSETFROM:-0600
TZOFFSETTO:-0500
RDATE:20240310T020000
RDATE:20250309T020000
END:DAYLIGHT
END:VTIMEZONE
BEGIN:VEVENT
UID:ddc227d5-ee25-4717-b84d-12249d341c0a
DTSTAMP:20260424T030516Z
DESCRIPTION:
DTSTART;TZID=America/Chicago:20231101T100000
DTEND;TZID=America/Chicago:20231101T120000
LOCATION:
SUMMARY:Community Food Fair
END:VEVENT
END:VCALENDAR
