BEGIN:VCALENDAR
VERSION:2.0
PRODID:-//crossroadsatparkplace.org//NONSGML kigkonsult.se iCalcreator 2.30
 .10//
CALSCALE:GREGORIAN
METHOD:PUBLISH
UID:6c2ce98f-2b32-4b6d-8e06-b9c00db40fbc
X-WR-CALDESC:
X-WR-RELCALID:1473cc0ac1c7a6f0996a8573a8ebddcf
X-WR-TIMEZONE:America/Chicago
BEGIN:VTIMEZONE
TZID:America/Chicago
BEGIN:STANDARD
TZNAME:CST
DTSTART:20231105T020000
TZOFFSETFROM:-0500
TZOFFSETTO:-0600
RDATE:20241103T020000
END:STANDARD
BEGIN:DAYLIGHT
TZNAME:CDT
DTSTART:20230312T020000
TZOFFSETFROM:-0600
TZOFFSETTO:-0500
RDATE:20240310T020000
RDATE:20250309T020000
END:DAYLIGHT
END:VTIMEZONE
BEGIN:VEVENT
UID:5ec363e0-26aa-4389-84d8-ea30f04bb8b6
DTSTAMP:20260424T030028Z
DESCRIPTION:
DTSTART;TZID=America/Chicago:20231109T070000
DTEND;TZID=America/Chicago:20231109T120000
LOCATION:
SUMMARY:Full Service in Operation
END:VEVENT
END:VCALENDAR
