BEGIN:VCALENDAR
VERSION:2.0
PRODID:-//crossroadsatparkplace.org//NONSGML kigkonsult.se iCalcreator 2.30
 .10//
CALSCALE:GREGORIAN
METHOD:PUBLISH
UID:84930e52-5669-49cb-ab99-f5c16ea59729
X-WR-CALDESC:Charity Golf Tournament 2023
X-WR-RELCALID:0517881ec8ebd1397619606be734fc2a
X-WR-TIMEZONE:America/Chicago
BEGIN:VTIMEZONE
TZID:America/Chicago
BEGIN:STANDARD
TZNAME:CST
DTSTART:20231105T020000
TZOFFSETFROM:-0500
TZOFFSETTO:-0600
RDATE:20241103T020000
END:STANDARD
BEGIN:DAYLIGHT
TZNAME:CDT
DTSTART:20230312T020000
TZOFFSETFROM:-0600
TZOFFSETTO:-0500
RDATE:20240310T020000
RDATE:20250309T020000
END:DAYLIGHT
END:VTIMEZONE
BEGIN:VEVENT
UID:208c33e4-3923-423f-9708-5e4bd46ca2b8
DTSTAMP:20260424T030505Z
DESCRIPTION:Charity Golf Tournament 2023
DTSTART;TZID=America/Chicago:20231113T070000
DTEND;TZID=America/Chicago:20231113T140000
LOCATION:Bay Oaks Country Club\, 14545 Bay Oaks Blvd\, Houston\, TX 77059 U
 S
SUMMARY:Charity Golf Tournament 2023
END:VEVENT
END:VCALENDAR
