BEGIN:VCALENDAR
VERSION:2.0
PRODID:-//crossroadsatparkplace.org//NONSGML kigkonsult.se iCalcreator 2.30
 .10//
CALSCALE:GREGORIAN
METHOD:PUBLISH
UID:b24b2653-26ec-495c-9c0c-a633bfb95aa4
X-WR-CALDESC:
X-WR-RELCALID:ca3aa61705e2da5d44c3e26b6b097700
X-WR-TIMEZONE:America/Chicago
BEGIN:VTIMEZONE
TZID:America/Chicago
BEGIN:STANDARD
TZNAME:CST
DTSTART:20231105T020000
TZOFFSETFROM:-0500
TZOFFSETTO:-0600
RDATE:20241103T020000
END:STANDARD
BEGIN:DAYLIGHT
TZNAME:CDT
DTSTART:20230312T020000
TZOFFSETFROM:-0600
TZOFFSETTO:-0500
RDATE:20240310T020000
RDATE:20250309T020000
END:DAYLIGHT
END:VTIMEZONE
BEGIN:VEVENT
UID:5a1239b6-2612-411f-a271-fb1625fc577a
DTSTAMP:20260424T020133Z
DESCRIPTION:
DTSTART;TZID=America/Chicago:20231206T100000
DTEND;TZID=America/Chicago:20231206T120000
LOCATION:
SUMMARY:Community Food Fair
END:VEVENT
END:VCALENDAR
