BEGIN:VCALENDAR
VERSION:2.0
PRODID:-//crossroadsatparkplace.org//NONSGML kigkonsult.se iCalcreator 2.30
 .10//
CALSCALE:GREGORIAN
METHOD:PUBLISH
UID:b7a95a5b-d6a0-442b-b0d1-d3cc08a5f873
X-WR-CALDESC:
X-WR-RELCALID:9b1503b9a46bdfd1aa414db442f584e8
X-WR-TIMEZONE:America/Chicago
BEGIN:VTIMEZONE
TZID:America/Chicago
BEGIN:STANDARD
TZNAME:CST
DTSTART:20231105T020000
TZOFFSETFROM:-0500
TZOFFSETTO:-0600
RDATE:20241103T020000
END:STANDARD
BEGIN:DAYLIGHT
TZNAME:CDT
DTSTART:20230312T020000
TZOFFSETFROM:-0600
TZOFFSETTO:-0500
RDATE:20240310T020000
RDATE:20250309T020000
END:DAYLIGHT
END:VTIMEZONE
BEGIN:VEVENT
UID:38ab5a37-d6e8-4cb3-8be4-c53b3ad34c61
DTSTAMP:20260424T020301Z
DESCRIPTION:
DTSTART;TZID=America/Chicago:20231220T100000
DTEND;TZID=America/Chicago:20231220T120000
LOCATION:
SUMMARY:Community Food Fair
END:VEVENT
END:VCALENDAR
