BEGIN:VCALENDAR
VERSION:2.0
PRODID:-//crossroadsatparkplace.org//NONSGML kigkonsult.se iCalcreator 2.30
 .10//
CALSCALE:GREGORIAN
METHOD:PUBLISH
UID:03e4ad5e-de90-4511-9f61-2090551d1412
X-WR-CALDESC:
X-WR-RELCALID:74b7524842192f35163179df72d56937
X-WR-TIMEZONE:America/Chicago
BEGIN:VTIMEZONE
TZID:America/Chicago
BEGIN:STANDARD
TZNAME:CST
DTSTART:20231105T020000
TZOFFSETFROM:-0500
TZOFFSETTO:-0600
RDATE:20241103T020000
END:STANDARD
BEGIN:DAYLIGHT
TZNAME:CDT
DTSTART:20230312T020000
TZOFFSETFROM:-0600
TZOFFSETTO:-0500
RDATE:20240310T020000
RDATE:20250309T020000
END:DAYLIGHT
END:VTIMEZONE
BEGIN:VEVENT
UID:5f056abd-1cfe-41c4-be14-60ef8a5790b5
DTSTAMP:20260424T015746Z
DESCRIPTION:
DTSTART;TZID=America/Chicago:20231227T100000
DTEND;TZID=America/Chicago:20231227T120000
LOCATION:
SUMMARY:Community Food Fair
END:VEVENT
END:VCALENDAR
