BEGIN:VCALENDAR
VERSION:2.0
PRODID:-//crossroadsatparkplace.org//NONSGML kigkonsult.se iCalcreator 2.30
 .10//
CALSCALE:GREGORIAN
METHOD:PUBLISH
UID:d1ea4d5d-cae2-42fd-b6a8-9ef4cb3ce048
X-WR-CALDESC:
X-WR-RELCALID:c55ccf7f3ae82f94bb1fa39768b1b891
X-WR-TIMEZONE:America/Chicago
BEGIN:VTIMEZONE
TZID:America/Chicago
BEGIN:STANDARD
TZNAME:CST
DTSTART:20231105T020000
TZOFFSETFROM:-0500
TZOFFSETTO:-0600
RDATE:20241103T020000
END:STANDARD
BEGIN:DAYLIGHT
TZNAME:CDT
DTSTART:20230312T020000
TZOFFSETFROM:-0600
TZOFFSETTO:-0500
RDATE:20240310T020000
RDATE:20250309T020000
END:DAYLIGHT
END:VTIMEZONE
BEGIN:VEVENT
UID:9ea6306f-0b3d-49aa-ba62-4c40bb631579
DTSTAMP:20260424T002700Z
DESCRIPTION:
DTSTART;TZID=America/Chicago:20240103T100000
DTEND;TZID=America/Chicago:20240103T120000
LOCATION:
SUMMARY:Community Food Fair
END:VEVENT
END:VCALENDAR
