BEGIN:VCALENDAR
VERSION:2.0
PRODID:-//crossroadsatparkplace.org//NONSGML kigkonsult.se iCalcreator 2.30
 .10//
CALSCALE:GREGORIAN
METHOD:PUBLISH
UID:91b19631-d5a9-4a7b-9e1e-3f92c39947e4
X-WR-CALDESC:
X-WR-RELCALID:540ab72cce0974bce89b8c295937a895
X-WR-TIMEZONE:America/Chicago
BEGIN:VTIMEZONE
TZID:America/Chicago
BEGIN:STANDARD
TZNAME:CST
DTSTART:20231105T020000
TZOFFSETFROM:-0500
TZOFFSETTO:-0600
RDATE:20241103T020000
END:STANDARD
BEGIN:DAYLIGHT
TZNAME:CDT
DTSTART:20230312T020000
TZOFFSETFROM:-0600
TZOFFSETTO:-0500
RDATE:20240310T020000
RDATE:20250309T020000
END:DAYLIGHT
END:VTIMEZONE
BEGIN:VEVENT
UID:6f8cc074-e731-4c77-8fa4-99ba1a49f2a3
DTSTAMP:20260424T002807Z
DESCRIPTION:
DTSTART;TZID=America/Chicago:20240110T100000
DTEND;TZID=America/Chicago:20240110T120000
LOCATION:
SUMMARY:Community Food Fair
END:VEVENT
END:VCALENDAR
