BEGIN:VCALENDAR
VERSION:2.0
PRODID:-//crossroadsatparkplace.org//NONSGML kigkonsult.se iCalcreator 2.30
 .10//
CALSCALE:GREGORIAN
METHOD:PUBLISH
UID:3bd85811-7cfc-4340-a534-c582127e1661
X-WR-CALDESC:
X-WR-RELCALID:80a484513fcf24182ed9a8013e91b70e
X-WR-TIMEZONE:America/Chicago
BEGIN:VTIMEZONE
TZID:America/Chicago
BEGIN:STANDARD
TZNAME:CST
DTSTART:20231105T020000
TZOFFSETFROM:-0500
TZOFFSETTO:-0600
RDATE:20241103T020000
END:STANDARD
BEGIN:DAYLIGHT
TZNAME:CDT
DTSTART:20230312T020000
TZOFFSETFROM:-0600
TZOFFSETTO:-0500
RDATE:20240310T020000
RDATE:20250309T020000
END:DAYLIGHT
END:VTIMEZONE
BEGIN:VEVENT
UID:dbe6002c-fd83-4d91-9471-43097e63da11
DTSTAMP:20260424T002801Z
DESCRIPTION:
DTSTART;TZID=America/Chicago:20240117T100000
DTEND;TZID=America/Chicago:20240117T120000
LOCATION:
SUMMARY:Community Food Fair
END:VEVENT
END:VCALENDAR
