BEGIN:VCALENDAR
VERSION:2.0
PRODID:-//crossroadsatparkplace.org//NONSGML kigkonsult.se iCalcreator 2.30
 .10//
CALSCALE:GREGORIAN
METHOD:PUBLISH
UID:b849dc16-0a39-4acc-b5f8-82d17cd68654
X-WR-CALDESC:
X-WR-RELCALID:f2a822af40f3e43e50fa2bbf1666a0ca
X-WR-TIMEZONE:America/Chicago
BEGIN:VTIMEZONE
TZID:America/Chicago
BEGIN:STANDARD
TZNAME:CST
DTSTART:20231105T020000
TZOFFSETFROM:-0500
TZOFFSETTO:-0600
RDATE:20241103T020000
END:STANDARD
BEGIN:DAYLIGHT
TZNAME:CDT
DTSTART:20230312T020000
TZOFFSETFROM:-0600
TZOFFSETTO:-0500
RDATE:20240310T020000
RDATE:20250309T020000
END:DAYLIGHT
END:VTIMEZONE
BEGIN:VEVENT
UID:d3c6ab53-ff82-48e6-a5f9-d5edc48b0230
DTSTAMP:20260424T002915Z
DESCRIPTION:
DTSTART;TZID=America/Chicago:20240124T100000
DTEND;TZID=America/Chicago:20240124T120000
LOCATION:
SUMMARY:Community Food Fair
END:VEVENT
END:VCALENDAR
