BEGIN:VCALENDAR
VERSION:2.0
PRODID:-//crossroadsatparkplace.org//NONSGML kigkonsult.se iCalcreator 2.30
 .10//
CALSCALE:GREGORIAN
METHOD:PUBLISH
UID:20ef2aab-2ab8-42dc-8b73-d447b5fcc2d0
X-WR-CALDESC:
X-WR-RELCALID:64db5fe3c57da34685815b2ec72a29a9
X-WR-TIMEZONE:America/Chicago
BEGIN:VTIMEZONE
TZID:America/Chicago
BEGIN:STANDARD
TZNAME:CST
DTSTART:20231105T020000
TZOFFSETFROM:-0500
TZOFFSETTO:-0600
RDATE:20241103T020000
END:STANDARD
BEGIN:DAYLIGHT
TZNAME:CDT
DTSTART:20230312T020000
TZOFFSETFROM:-0600
TZOFFSETTO:-0500
RDATE:20240310T020000
RDATE:20250309T020000
END:DAYLIGHT
END:VTIMEZONE
BEGIN:VEVENT
UID:a7fd6a85-2605-49f8-9ab1-d380f19f03f0
DTSTAMP:20260424T002915Z
DESCRIPTION:
DTSTART;TZID=America/Chicago:20240131T100000
DTEND;TZID=America/Chicago:20240131T120000
LOCATION:
SUMMARY:Community Food Fair
END:VEVENT
END:VCALENDAR
