BEGIN:VCALENDAR
VERSION:2.0
PRODID:-//crossroadsatparkplace.org//NONSGML kigkonsult.se iCalcreator 2.30
 .10//
CALSCALE:GREGORIAN
METHOD:PUBLISH
UID:6fa79287-5569-48d6-92f3-7acc2e4edd4d
X-WR-CALDESC:
X-WR-RELCALID:827bc4a69dc016179149d62afae722fb
X-WR-TIMEZONE:America/Chicago
BEGIN:VTIMEZONE
TZID:America/Chicago
BEGIN:STANDARD
TZNAME:CST
DTSTART:20231105T020000
TZOFFSETFROM:-0500
TZOFFSETTO:-0600
RDATE:20241103T020000
END:STANDARD
BEGIN:DAYLIGHT
TZNAME:CDT
DTSTART:20230312T020000
TZOFFSETFROM:-0600
TZOFFSETTO:-0500
RDATE:20240310T020000
RDATE:20250309T020000
END:DAYLIGHT
END:VTIMEZONE
BEGIN:VEVENT
UID:83c423dd-30f3-4e1b-b949-778be6a2fa21
DTSTAMP:20260423T233354Z
DESCRIPTION:
DTSTART;TZID=America/Chicago:20240207T100000
DTEND;TZID=America/Chicago:20240207T120000
LOCATION:
SUMMARY:Community Food Fair
END:VEVENT
END:VCALENDAR
