BEGIN:VCALENDAR
VERSION:2.0
PRODID:-//crossroadsatparkplace.org//NONSGML kigkonsult.se iCalcreator 2.30
 .10//
CALSCALE:GREGORIAN
METHOD:PUBLISH
UID:9878a197-0a48-40ef-83fa-128b64959d41
X-WR-CALDESC:
X-WR-RELCALID:fb9a841a589988ddc99a528510ca1141
X-WR-TIMEZONE:America/Chicago
BEGIN:VTIMEZONE
TZID:America/Chicago
BEGIN:STANDARD
TZNAME:CST
DTSTART:20231105T020000
TZOFFSETFROM:-0500
TZOFFSETTO:-0600
RDATE:20241103T020000
END:STANDARD
BEGIN:DAYLIGHT
TZNAME:CDT
DTSTART:20230312T020000
TZOFFSETFROM:-0600
TZOFFSETTO:-0500
RDATE:20240310T020000
RDATE:20250309T020000
END:DAYLIGHT
END:VTIMEZONE
BEGIN:VEVENT
UID:8fd4205a-2edd-4203-9096-3b388a0aff9d
DTSTAMP:20260423T232620Z
DESCRIPTION:
DTSTART;TZID=America/Chicago:20240228T100000
DTEND;TZID=America/Chicago:20240228T120000
LOCATION:
SUMMARY:Community Food Fair
END:VEVENT
END:VCALENDAR
