BEGIN:VCALENDAR
VERSION:2.0
PRODID:-//crossroadsatparkplace.org//NONSGML kigkonsult.se iCalcreator 2.30
 .10//
CALSCALE:GREGORIAN
METHOD:PUBLISH
UID:a8a8e228-c94e-490f-a490-638be31b9ddc
X-WR-CALDESC:
X-WR-RELCALID:d08e4f1bf1dab2c742b2c858dc24f792
X-WR-TIMEZONE:America/Chicago
BEGIN:VTIMEZONE
TZID:America/Chicago
BEGIN:STANDARD
TZNAME:CST
DTSTART:20231105T020000
TZOFFSETFROM:-0500
TZOFFSETTO:-0600
RDATE:20241103T020000
END:STANDARD
BEGIN:DAYLIGHT
TZNAME:CDT
DTSTART:20240310T020000
TZOFFSETFROM:-0600
TZOFFSETTO:-0500
RDATE:20250309T020000
END:DAYLIGHT
END:VTIMEZONE
BEGIN:VEVENT
UID:5fafe8b7-8ee1-4687-9b4c-7cb8bc6a9ac0
DTSTAMP:20260423T215605Z
DESCRIPTION:
DTSTART;TZID=America/Chicago:20240313T100000
DTEND;TZID=America/Chicago:20240313T120000
LOCATION:
SUMMARY:Community Food Fair
END:VEVENT
END:VCALENDAR
