BEGIN:VCALENDAR
VERSION:2.0
PRODID:-//crossroadsatparkplace.org//NONSGML kigkonsult.se iCalcreator 2.30
 .10//
CALSCALE:GREGORIAN
METHOD:PUBLISH
UID:b2f4e17e-6d12-411f-bdcb-3e3aafc748aa
X-WR-CALDESC:
X-WR-RELCALID:c389ba950c7ae507fbcca12c05e07e26
X-WR-TIMEZONE:America/Chicago
BEGIN:VTIMEZONE
TZID:America/Chicago
BEGIN:STANDARD
TZNAME:CST
DTSTART:20231105T020000
TZOFFSETFROM:-0500
TZOFFSETTO:-0600
RDATE:20241103T020000
END:STANDARD
BEGIN:DAYLIGHT
TZNAME:CDT
DTSTART:20240310T020000
TZOFFSETFROM:-0600
TZOFFSETTO:-0500
RDATE:20250309T020000
END:DAYLIGHT
END:VTIMEZONE
BEGIN:VEVENT
UID:bc148fcd-73e2-489d-aeba-be18094d1f65
DTSTAMP:20260423T215535Z
DESCRIPTION:
DTSTART;TZID=America/Chicago:20240320T100000
DTEND;TZID=America/Chicago:20240320T120000
LOCATION:
SUMMARY:Community Food Fair
END:VEVENT
END:VCALENDAR
