BEGIN:VCALENDAR
VERSION:2.0
PRODID:-//crossroadsatparkplace.org//NONSGML kigkonsult.se iCalcreator 2.30
 .10//
CALSCALE:GREGORIAN
METHOD:PUBLISH
UID:0de6cf6e-8bb9-4496-8e4d-2055fc183fda
X-WR-CALDESC:
X-WR-RELCALID:c81eec3b7ca9084991c761b78b43ba48
X-WR-TIMEZONE:America/Chicago
BEGIN:VTIMEZONE
TZID:America/Chicago
BEGIN:STANDARD
TZNAME:CST
DTSTART:20231105T020000
TZOFFSETFROM:-0500
TZOFFSETTO:-0600
RDATE:20241103T020000
END:STANDARD
BEGIN:DAYLIGHT
TZNAME:CDT
DTSTART:20240310T020000
TZOFFSETFROM:-0600
TZOFFSETTO:-0500
RDATE:20250309T020000
END:DAYLIGHT
END:VTIMEZONE
BEGIN:VEVENT
UID:c970718f-b299-446a-8482-2cc5c0410729
DTSTAMP:20260423T215718Z
DESCRIPTION:
DTSTART;TZID=America/Chicago:20240327T100000
DTEND;TZID=America/Chicago:20240327T120000
LOCATION:
SUMMARY:Community Food Fair
END:VEVENT
END:VCALENDAR
