BEGIN:VCALENDAR
VERSION:2.0
PRODID:-//crossroadsatparkplace.org//NONSGML kigkonsult.se iCalcreator 2.30
 .10//
CALSCALE:GREGORIAN
METHOD:PUBLISH
UID:7932edbe-5491-47c4-8acf-bde13c9a7a00
X-WR-CALDESC:
X-WR-RELCALID:ccca88427a2715d72e8d492eaa1d8a0d
X-WR-TIMEZONE:America/Chicago
BEGIN:VTIMEZONE
TZID:America/Chicago
BEGIN:STANDARD
TZNAME:CST
DTSTART:20231105T020000
TZOFFSETFROM:-0500
TZOFFSETTO:-0600
RDATE:20241103T020000
RDATE:20251102T020000
END:STANDARD
BEGIN:DAYLIGHT
TZNAME:CDT
DTSTART:20240310T020000
TZOFFSETFROM:-0600
TZOFFSETTO:-0500
RDATE:20250309T020000
END:DAYLIGHT
END:VTIMEZONE
BEGIN:VEVENT
UID:821123a1-2bdd-4e89-aa00-ac25b855225d
DTSTAMP:20260423T193359Z
DESCRIPTION:
DTSTART;TZID=America/Chicago:20240515T100000
DTEND;TZID=America/Chicago:20240515T120000
LOCATION:
SUMMARY:Community Food Fair
END:VEVENT
END:VCALENDAR
