BEGIN:VCALENDAR
VERSION:2.0
PRODID:-//crossroadsatparkplace.org//NONSGML kigkonsult.se iCalcreator 2.30
 .10//
CALSCALE:GREGORIAN
METHOD:PUBLISH
UID:6bb781b1-8f02-46f3-b2c2-04f88eba6109
X-WR-CALDESC:
X-WR-RELCALID:3a1efb7a46e68c3415607674a92611ca
X-WR-TIMEZONE:America/Chicago
BEGIN:VTIMEZONE
TZID:America/Chicago
BEGIN:STANDARD
TZNAME:CST
DTSTART:20231105T020000
TZOFFSETFROM:-0500
TZOFFSETTO:-0600
RDATE:20241103T020000
RDATE:20251102T020000
END:STANDARD
BEGIN:DAYLIGHT
TZNAME:CDT
DTSTART:20240310T020000
TZOFFSETFROM:-0600
TZOFFSETTO:-0500
RDATE:20250309T020000
END:DAYLIGHT
END:VTIMEZONE
BEGIN:VEVENT
UID:a99d4242-1784-4331-b9bf-d26864f0b45b
DTSTAMP:20260423T193410Z
DESCRIPTION:
DTSTART;TZID=America/Chicago:20240522T100000
DTEND;TZID=America/Chicago:20240522T120000
LOCATION:
SUMMARY:Community Food Fair
END:VEVENT
END:VCALENDAR
