BEGIN:VCALENDAR
VERSION:2.0
PRODID:-//crossroadsatparkplace.org//NONSGML kigkonsult.se iCalcreator 2.30
 .10//
CALSCALE:GREGORIAN
METHOD:PUBLISH
UID:49e11f77-6b39-4845-bb5c-c3517a503526
X-WR-CALDESC:
X-WR-RELCALID:baed08efc5b7fd84db36e5257ec04136
X-WR-TIMEZONE:America/Chicago
BEGIN:VTIMEZONE
TZID:America/Chicago
BEGIN:STANDARD
TZNAME:CST
DTSTART:20231105T020000
TZOFFSETFROM:-0500
TZOFFSETTO:-0600
RDATE:20241103T020000
RDATE:20251102T020000
END:STANDARD
BEGIN:DAYLIGHT
TZNAME:CDT
DTSTART:20240310T020000
TZOFFSETFROM:-0600
TZOFFSETTO:-0500
RDATE:20250309T020000
END:DAYLIGHT
END:VTIMEZONE
BEGIN:VEVENT
UID:437e467b-b78e-49fc-ade9-f20161ec4feb
DTSTAMP:20260423T193236Z
DESCRIPTION:
DTSTART;TZID=America/Chicago:20240529T100000
DTEND;TZID=America/Chicago:20240529T120000
LOCATION:
SUMMARY:Community Food Fair
END:VEVENT
END:VCALENDAR
