BEGIN:VCALENDAR
VERSION:2.0
PRODID:-//crossroadsatparkplace.org//NONSGML kigkonsult.se iCalcreator 2.30
 .10//
CALSCALE:GREGORIAN
METHOD:PUBLISH
UID:749b8c41-300a-48f5-ab6e-d3dd018b3494
X-WR-CALDESC:
X-WR-RELCALID:a0229567993f1b3d7d39cd91503dcabf
X-WR-TIMEZONE:America/Chicago
BEGIN:VTIMEZONE
TZID:America/Chicago
BEGIN:STANDARD
TZNAME:CST
DTSTART:20231105T020000
TZOFFSETFROM:-0500
TZOFFSETTO:-0600
RDATE:20241103T020000
RDATE:20251102T020000
END:STANDARD
BEGIN:DAYLIGHT
TZNAME:CDT
DTSTART:20240310T020000
TZOFFSETFROM:-0600
TZOFFSETTO:-0500
RDATE:20250309T020000
END:DAYLIGHT
END:VTIMEZONE
BEGIN:VEVENT
UID:1b96cc1c-4323-44d5-99d4-8d951a90d38e
DTSTAMP:20260423T180119Z
DESCRIPTION:
DTSTART;TZID=America/Chicago:20240605T100000
DTEND;TZID=America/Chicago:20240605T120000
LOCATION:
SUMMARY:Community Food Fair
END:VEVENT
END:VCALENDAR
