BEGIN:VCALENDAR
VERSION:2.0
PRODID:-//crossroadsatparkplace.org//NONSGML kigkonsult.se iCalcreator 2.30
 .10//
CALSCALE:GREGORIAN
METHOD:PUBLISH
UID:9555bbc5-11bd-4637-bb28-c2d5ed06b1bc
X-WR-CALDESC:
X-WR-RELCALID:1862f0d2b0f852bd0c668c57f7187d04
X-WR-TIMEZONE:America/Chicago
BEGIN:VTIMEZONE
TZID:America/Chicago
BEGIN:STANDARD
TZNAME:CST
DTSTART:20231105T020000
TZOFFSETFROM:-0500
TZOFFSETTO:-0600
RDATE:20241103T020000
RDATE:20251102T020000
END:STANDARD
BEGIN:DAYLIGHT
TZNAME:CDT
DTSTART:20240310T020000
TZOFFSETFROM:-0600
TZOFFSETTO:-0500
RDATE:20250309T020000
END:DAYLIGHT
END:VTIMEZONE
BEGIN:VEVENT
UID:77a55e69-8b26-4ce8-9b9b-52de22fea7a8
DTSTAMP:20260423T163145Z
DESCRIPTION:
DTSTART;TZID=America/Chicago:20240717T100000
DTEND;TZID=America/Chicago:20240717T120000
LOCATION:
SUMMARY:Community Food Fair
END:VEVENT
END:VCALENDAR
