BEGIN:VCALENDAR
VERSION:2.0
PRODID:-//crossroadsatparkplace.org//NONSGML kigkonsult.se iCalcreator 2.30
 .10//
CALSCALE:GREGORIAN
METHOD:PUBLISH
UID:04f23157-e35f-4656-bad5-3b9c4380f261
X-WR-CALDESC:
X-WR-RELCALID:d1212c966a7c8191e8ec614311fdd604
X-WR-TIMEZONE:America/Chicago
BEGIN:VTIMEZONE
TZID:America/Chicago
BEGIN:STANDARD
TZNAME:CST
DTSTART:20231105T020000
TZOFFSETFROM:-0500
TZOFFSETTO:-0600
RDATE:20241103T020000
RDATE:20251102T020000
END:STANDARD
BEGIN:DAYLIGHT
TZNAME:CDT
DTSTART:20240310T020000
TZOFFSETFROM:-0600
TZOFFSETTO:-0500
RDATE:20250309T020000
END:DAYLIGHT
END:VTIMEZONE
BEGIN:VEVENT
UID:a42f7ac9-ee83-4623-80ef-3e90e8760615
DTSTAMP:20260423T145452Z
DESCRIPTION:
DTSTART;TZID=America/Chicago:20240807T100000
DTEND;TZID=America/Chicago:20240807T120000
LOCATION:
SUMMARY:Community Food Fair
END:VEVENT
END:VCALENDAR
