BEGIN:VCALENDAR
VERSION:2.0
PRODID:-//crossroadsatparkplace.org//NONSGML kigkonsult.se iCalcreator 2.30
 .10//
CALSCALE:GREGORIAN
METHOD:PUBLISH
UID:021c054b-f657-4eca-a798-6126e1a64ce0
X-WR-CALDESC:
X-WR-RELCALID:59524459ea2c30db13d432c56a6577d1
X-WR-TIMEZONE:America/Chicago
BEGIN:VTIMEZONE
TZID:America/Chicago
BEGIN:STANDARD
TZNAME:CST
DTSTART:20231105T020000
TZOFFSETFROM:-0500
TZOFFSETTO:-0600
RDATE:20241103T020000
RDATE:20251102T020000
END:STANDARD
BEGIN:DAYLIGHT
TZNAME:CDT
DTSTART:20240310T020000
TZOFFSETFROM:-0600
TZOFFSETTO:-0500
RDATE:20250309T020000
END:DAYLIGHT
END:VTIMEZONE
BEGIN:VEVENT
UID:e843c8cc-d80f-4f11-8641-c9b1388812ac
DTSTAMP:20260423T145058Z
DESCRIPTION:
DTSTART;TZID=America/Chicago:20240820T070000
DTEND;TZID=America/Chicago:20240820T120000
LOCATION:
SUMMARY:Full Service in Operation
END:VEVENT
END:VCALENDAR
