BEGIN:VCALENDAR
VERSION:2.0
PRODID:-//crossroadsatparkplace.org//NONSGML kigkonsult.se iCalcreator 2.30
 .10//
CALSCALE:GREGORIAN
METHOD:PUBLISH
UID:e60840c9-6710-4511-9848-6d61c58716c4
X-WR-CALDESC:
X-WR-RELCALID:743713b6a5b688559b29e85791015298
X-WR-TIMEZONE:America/Chicago
BEGIN:VTIMEZONE
TZID:America/Chicago
BEGIN:STANDARD
TZNAME:CST
DTSTART:20231105T020000
TZOFFSETFROM:-0500
TZOFFSETTO:-0600
RDATE:20241103T020000
RDATE:20251102T020000
END:STANDARD
BEGIN:DAYLIGHT
TZNAME:CDT
DTSTART:20240310T020000
TZOFFSETFROM:-0600
TZOFFSETTO:-0500
RDATE:20250309T020000
END:DAYLIGHT
END:VTIMEZONE
BEGIN:VEVENT
UID:1dab402a-58ea-47bb-a2d9-49c2da48652b
DTSTAMP:20260423T145331Z
DESCRIPTION:
DTSTART;TZID=America/Chicago:20240821T100000
DTEND;TZID=America/Chicago:20240821T120000
LOCATION:
SUMMARY:Community Food Fair
END:VEVENT
END:VCALENDAR
