BEGIN:VCALENDAR
VERSION:2.0
PRODID:-//crossroadsatparkplace.org//NONSGML kigkonsult.se iCalcreator 2.30
 .10//
CALSCALE:GREGORIAN
METHOD:PUBLISH
UID:009b47ef-8735-49e3-b375-3397b558ed2b
X-WR-CALDESC:
X-WR-RELCALID:ff3c4c8bf597ab1cf86e686c78808329
X-WR-TIMEZONE:America/Chicago
BEGIN:VTIMEZONE
TZID:America/Chicago
BEGIN:STANDARD
TZNAME:CST
DTSTART:20231105T020000
TZOFFSETFROM:-0500
TZOFFSETTO:-0600
RDATE:20241103T020000
RDATE:20251102T020000
END:STANDARD
BEGIN:DAYLIGHT
TZNAME:CDT
DTSTART:20240310T020000
TZOFFSETFROM:-0600
TZOFFSETTO:-0500
RDATE:20250309T020000
END:DAYLIGHT
END:VTIMEZONE
BEGIN:VEVENT
UID:bc20b6bd-bde8-4dec-a635-90a8ee3dd1b8
DTSTAMP:20260423T145459Z
DESCRIPTION:
DTSTART;TZID=America/Chicago:20240828T100000
DTEND;TZID=America/Chicago:20240828T120000
LOCATION:
SUMMARY:Community Food Fair
END:VEVENT
END:VCALENDAR
