BEGIN:VCALENDAR
VERSION:2.0
PRODID:-//crossroadsatparkplace.org//NONSGML kigkonsult.se iCalcreator 2.30
 .10//
CALSCALE:GREGORIAN
METHOD:PUBLISH
UID:fed8b7c8-125b-4ca9-8614-bf68e87206b1
X-WR-CALDESC:
X-WR-RELCALID:72e43fa268f52580a546ebe6d9dab900
X-WR-TIMEZONE:America/Chicago
BEGIN:VTIMEZONE
TZID:America/Chicago
BEGIN:STANDARD
TZNAME:CST
DTSTART:20231105T020000
TZOFFSETFROM:-0500
TZOFFSETTO:-0600
RDATE:20241103T020000
RDATE:20251102T020000
END:STANDARD
BEGIN:DAYLIGHT
TZNAME:CDT
DTSTART:20240310T020000
TZOFFSETFROM:-0600
TZOFFSETTO:-0500
RDATE:20250309T020000
RDATE:20260308T020000
END:DAYLIGHT
END:VTIMEZONE
BEGIN:VEVENT
UID:2d097e87-583f-407a-99bf-6b6da292b072
DTSTAMP:20260423T135630Z
DESCRIPTION:
DTSTART;TZID=America/Chicago:20240925T100000
DTEND;TZID=America/Chicago:20240925T120000
LOCATION:
SUMMARY:Community Food Fair
END:VEVENT
END:VCALENDAR
