BEGIN:VCALENDAR
VERSION:2.0
PRODID:-//crossroadsatparkplace.org//NONSGML kigkonsult.se iCalcreator 2.30
 .10//
CALSCALE:GREGORIAN
METHOD:PUBLISH
UID:90d1d5d1-9774-44bb-a229-3bfe048ccdc8
X-WR-CALDESC:
X-WR-RELCALID:97f04498205e43d8d5ff262e6c777f06
X-WR-TIMEZONE:America/Chicago
BEGIN:VTIMEZONE
TZID:America/Chicago
BEGIN:STANDARD
TZNAME:CST
DTSTART:20231105T020000
TZOFFSETFROM:-0500
TZOFFSETTO:-0600
RDATE:20241103T020000
RDATE:20251102T020000
END:STANDARD
BEGIN:DAYLIGHT
TZNAME:CDT
DTSTART:20240310T020000
TZOFFSETFROM:-0600
TZOFFSETTO:-0500
RDATE:20250309T020000
RDATE:20260308T020000
END:DAYLIGHT
END:VTIMEZONE
BEGIN:VEVENT
UID:767a875b-d93b-49c3-ba0c-5eb5b0899a19
DTSTAMP:20260423T123205Z
DESCRIPTION:
DTSTART;TZID=America/Chicago:20241023T100000
DTEND;TZID=America/Chicago:20241023T120000
LOCATION:
SUMMARY:Community Food Fair
END:VEVENT
END:VCALENDAR
