BEGIN:VCALENDAR
VERSION:2.0
PRODID:-//crossroadsatparkplace.org//NONSGML kigkonsult.se iCalcreator 2.30
 .10//
CALSCALE:GREGORIAN
METHOD:PUBLISH
UID:5096475d-d983-40b4-b8df-1d58548d6fa6
X-WR-CALDESC:
X-WR-RELCALID:68d1b97af2ae6380970bbe0b8355afb8
X-WR-TIMEZONE:America/Chicago
BEGIN:VTIMEZONE
TZID:America/Chicago
BEGIN:STANDARD
TZNAME:CST
DTSTART:20231105T020000
TZOFFSETFROM:-0500
TZOFFSETTO:-0600
RDATE:20241103T020000
RDATE:20251102T020000
END:STANDARD
BEGIN:DAYLIGHT
TZNAME:CDT
DTSTART:20240310T020000
TZOFFSETFROM:-0600
TZOFFSETTO:-0500
RDATE:20250309T020000
RDATE:20260308T020000
END:DAYLIGHT
END:VTIMEZONE
BEGIN:VEVENT
UID:dfede8c9-fa66-449a-bfee-67b68807e7a8
DTSTAMP:20260423T123757Z
DESCRIPTION:
DTSTART;TZID=America/Chicago:20241030T100000
DTEND;TZID=America/Chicago:20241030T120000
LOCATION:
SUMMARY:Community Food Fair
END:VEVENT
END:VCALENDAR
