BEGIN:VCALENDAR
VERSION:2.0
PRODID:-//crossroadsatparkplace.org//NONSGML kigkonsult.se iCalcreator 2.30
 .10//
CALSCALE:GREGORIAN
METHOD:PUBLISH
UID:31f28094-1b21-4cf2-8b98-76ce394434fd
X-WR-CALDESC:
X-WR-RELCALID:418eb1b2beb4f0a290301ad8db26740a
X-WR-TIMEZONE:America/Chicago
BEGIN:VTIMEZONE
TZID:America/Chicago
BEGIN:STANDARD
TZNAME:CST
DTSTART:20241103T020000
TZOFFSETFROM:-0500
TZOFFSETTO:-0600
RDATE:20251102T020000
END:STANDARD
BEGIN:DAYLIGHT
TZNAME:CDT
DTSTART:20240310T020000
TZOFFSETFROM:-0600
TZOFFSETTO:-0500
RDATE:20250309T020000
RDATE:20260308T020000
END:DAYLIGHT
END:VTIMEZONE
BEGIN:VEVENT
UID:b62ba726-aafa-409a-b1eb-d8052b9e4869
DTSTAMP:20260423T105905Z
DESCRIPTION:
DTSTART;TZID=America/Chicago:20241118T080000
DTEND;TZID=America/Chicago:20241118T143000
LOCATION:Bay Oaks Country Club\, 14545 Bay Oaks Blvd\, Houston\, TX 77059 U
 S
SUMMARY:2024 Charity Golf Tournament
END:VEVENT
END:VCALENDAR
