BEGIN:VCALENDAR
VERSION:2.0
PRODID:-//crossroadsatparkplace.org//NONSGML kigkonsult.se iCalcreator 2.30
 .10//
CALSCALE:GREGORIAN
METHOD:PUBLISH
UID:3f33cf28-7766-4609-9483-09a71e8117a4
X-WR-CALDESC:
X-WR-RELCALID:5a927239391935bda8c4945bfda465f3
X-WR-TIMEZONE:America/Chicago
BEGIN:VTIMEZONE
TZID:America/Chicago
BEGIN:STANDARD
TZNAME:CST
DTSTART:20241103T020000
TZOFFSETFROM:-0500
TZOFFSETTO:-0600
RDATE:20251102T020000
END:STANDARD
BEGIN:DAYLIGHT
TZNAME:CDT
DTSTART:20240310T020000
TZOFFSETFROM:-0600
TZOFFSETTO:-0500
RDATE:20250309T020000
RDATE:20260308T020000
END:DAYLIGHT
END:VTIMEZONE
BEGIN:VEVENT
UID:aeddfa45-8691-4f79-814e-0afa5e0147eb
DTSTAMP:20260423T105728Z
DESCRIPTION:
DTSTART;TZID=America/Chicago:20241127T100000
DTEND;TZID=America/Chicago:20241127T120000
LOCATION:
SUMMARY:Community Food Fair
END:VEVENT
END:VCALENDAR
