BEGIN:VCALENDAR
VERSION:2.0
PRODID:-//crossroadsatparkplace.org//NONSGML kigkonsult.se iCalcreator 2.30
 .10//
CALSCALE:GREGORIAN
METHOD:PUBLISH
UID:40c57b45-46af-4a8e-8992-29adcc34fc3b
X-WR-CALDESC:
X-WR-RELCALID:7e0a4b30d1457f94c57e86a2007cb2dd
X-WR-TIMEZONE:America/Chicago
BEGIN:VTIMEZONE
TZID:America/Chicago
BEGIN:STANDARD
TZNAME:CST
DTSTART:20241103T020000
TZOFFSETFROM:-0500
TZOFFSETTO:-0600
RDATE:20251102T020000
END:STANDARD
BEGIN:DAYLIGHT
TZNAME:CDT
DTSTART:20240310T020000
TZOFFSETFROM:-0600
TZOFFSETTO:-0500
RDATE:20250309T020000
RDATE:20260308T020000
END:DAYLIGHT
END:VTIMEZONE
BEGIN:VEVENT
UID:3b2991c7-12a2-414a-9adf-e06085e25428
DTSTAMP:20260423T093547Z
DESCRIPTION:
DTSTART;TZID=America/Chicago:20241225T100000
DTEND;TZID=America/Chicago:20241225T120000
LOCATION:
SUMMARY:Community Food Fair
END:VEVENT
END:VCALENDAR
