BEGIN:VCALENDAR
VERSION:2.0
PRODID:-//crossroadsatparkplace.org//NONSGML kigkonsult.se iCalcreator 2.30
 .10//
CALSCALE:GREGORIAN
METHOD:PUBLISH
UID:f28dacfd-18f9-44e9-8b78-219f55030a17
X-WR-CALDESC:
X-WR-RELCALID:5acd30b48b63296789bad6632a3c2e88
X-WR-TIMEZONE:America/Chicago
BEGIN:VTIMEZONE
TZID:America/Chicago
BEGIN:STANDARD
TZNAME:CST
DTSTART:20241103T020000
TZOFFSETFROM:-0500
TZOFFSETTO:-0600
RDATE:20251102T020000
END:STANDARD
BEGIN:DAYLIGHT
TZNAME:CDT
DTSTART:20240310T020000
TZOFFSETFROM:-0600
TZOFFSETTO:-0500
RDATE:20250309T020000
RDATE:20260308T020000
END:DAYLIGHT
END:VTIMEZONE
BEGIN:VEVENT
UID:070e2d61-8bc3-4dc4-becb-744671567d5f
DTSTAMP:20260423T083600Z
DESCRIPTION:
DTSTART;TZID=America/Chicago:20250108T100000
DTEND;TZID=America/Chicago:20250108T120000
LOCATION:
SUMMARY:Community Food Fair
END:VEVENT
END:VCALENDAR
