BEGIN:VCALENDAR
VERSION:2.0
PRODID:-//crossroadsatparkplace.org//NONSGML kigkonsult.se iCalcreator 2.30
 .10//
CALSCALE:GREGORIAN
METHOD:PUBLISH
UID:0bff76e4-049d-4c86-97c2-9a68c5b5f1bd
X-WR-CALDESC:
X-WR-RELCALID:e859147fe5cc89765121f3e3564507cf
X-WR-TIMEZONE:America/Chicago
BEGIN:VTIMEZONE
TZID:America/Chicago
BEGIN:STANDARD
TZNAME:CST
DTSTART:20241103T020000
TZOFFSETFROM:-0500
TZOFFSETTO:-0600
RDATE:20251102T020000
END:STANDARD
BEGIN:DAYLIGHT
TZNAME:CDT
DTSTART:20240310T020000
TZOFFSETFROM:-0600
TZOFFSETTO:-0500
RDATE:20250309T020000
RDATE:20260308T020000
END:DAYLIGHT
END:VTIMEZONE
BEGIN:VEVENT
UID:b98a402a-7313-4b99-bb70-ebcc2c1f8678
DTSTAMP:20260423T083127Z
DESCRIPTION:
DTSTART;TZID=America/Chicago:20250129T100000
DTEND;TZID=America/Chicago:20250129T120000
LOCATION:
SUMMARY:Community Food Fair
END:VEVENT
END:VCALENDAR
