BEGIN:VCALENDAR
VERSION:2.0
PRODID:-//crossroadsatparkplace.org//NONSGML kigkonsult.se iCalcreator 2.30
 .10//
CALSCALE:GREGORIAN
METHOD:PUBLISH
UID:0136ffe8-3adb-4971-8675-1d9111a3a5ee
X-WR-CALDESC:
X-WR-RELCALID:fa556df1e3bd0c23ebb266447b4c3e86
X-WR-TIMEZONE:America/Chicago
BEGIN:VTIMEZONE
TZID:America/Chicago
BEGIN:STANDARD
TZNAME:CST
DTSTART:20241103T020000
TZOFFSETFROM:-0500
TZOFFSETTO:-0600
RDATE:20251102T020000
END:STANDARD
BEGIN:DAYLIGHT
TZNAME:CDT
DTSTART:20240310T020000
TZOFFSETFROM:-0600
TZOFFSETTO:-0500
RDATE:20250309T020000
RDATE:20260308T020000
END:DAYLIGHT
END:VTIMEZONE
BEGIN:VEVENT
UID:ab6d36b9-c6a0-40d1-8a4e-59c981f2aaee
DTSTAMP:20260423T070221Z
DESCRIPTION:
DTSTART;TZID=America/Chicago:20250212T100000
DTEND;TZID=America/Chicago:20250212T120000
LOCATION:
SUMMARY:Community Food Fair
END:VEVENT
END:VCALENDAR
