BEGIN:VCALENDAR
VERSION:2.0
PRODID:-//crossroadsatparkplace.org//NONSGML kigkonsult.se iCalcreator 2.30
 .10//
CALSCALE:GREGORIAN
METHOD:PUBLISH
UID:1ca99f88-a1e8-4995-b257-9d921f50375a
X-WR-CALDESC:
X-WR-RELCALID:bc5a3aced7833a26c11019984a3ba6e5
X-WR-TIMEZONE:America/Chicago
BEGIN:VTIMEZONE
TZID:America/Chicago
BEGIN:STANDARD
TZNAME:CST
DTSTART:20241103T020000
TZOFFSETFROM:-0500
TZOFFSETTO:-0600
RDATE:20251102T020000
END:STANDARD
BEGIN:DAYLIGHT
TZNAME:CDT
DTSTART:20240310T020000
TZOFFSETFROM:-0600
TZOFFSETTO:-0500
RDATE:20250309T020000
RDATE:20260308T020000
END:DAYLIGHT
END:VTIMEZONE
BEGIN:VEVENT
UID:b1afd60f-899a-4690-a40d-19a2c40a7298
DTSTAMP:20260423T070226Z
DESCRIPTION:
DTSTART;TZID=America/Chicago:20250226T100000
DTEND;TZID=America/Chicago:20250226T120000
LOCATION:
SUMMARY:Community Food Fair
END:VEVENT
END:VCALENDAR
