BEGIN:VCALENDAR
VERSION:2.0
PRODID:-//crossroadsatparkplace.org//NONSGML kigkonsult.se iCalcreator 2.30
 .10//
CALSCALE:GREGORIAN
METHOD:PUBLISH
UID:27deefa8-29e0-47e4-b031-da4417df144f
X-WR-CALDESC:
X-WR-RELCALID:36a5b84a9f635c0ecf4d6e73acea2018
X-WR-TIMEZONE:America/Chicago
BEGIN:VTIMEZONE
TZID:America/Chicago
BEGIN:STANDARD
TZNAME:CST
DTSTART:20241103T020000
TZOFFSETFROM:-0500
TZOFFSETTO:-0600
RDATE:20251102T020000
END:STANDARD
BEGIN:DAYLIGHT
TZNAME:CDT
DTSTART:20250309T020000
TZOFFSETFROM:-0600
TZOFFSETTO:-0500
RDATE:20260308T020000
END:DAYLIGHT
END:VTIMEZONE
BEGIN:VEVENT
UID:eb29f5c7-8921-4326-b581-5cd6fd7b5730
DTSTAMP:20260423T053731Z
DESCRIPTION:
DTSTART;TZID=America/Chicago:20250312T100000
DTEND;TZID=America/Chicago:20250312T120000
LOCATION:
SUMMARY:Community Food Fair
END:VEVENT
END:VCALENDAR
