BEGIN:VCALENDAR
VERSION:2.0
PRODID:-//crossroadsatparkplace.org//NONSGML kigkonsult.se iCalcreator 2.30
 .10//
CALSCALE:GREGORIAN
METHOD:PUBLISH
UID:5a23f654-d8f8-4216-82ba-7fbbd6ced10e
X-WR-CALDESC:
X-WR-RELCALID:ae6550111d77a4046da0a082864b6692
X-WR-TIMEZONE:America/Chicago
BEGIN:VTIMEZONE
TZID:America/Chicago
BEGIN:STANDARD
TZNAME:CST
DTSTART:20241103T020000
TZOFFSETFROM:-0500
TZOFFSETTO:-0600
RDATE:20251102T020000
RDATE:20261101T020000
END:STANDARD
BEGIN:DAYLIGHT
TZNAME:CDT
DTSTART:20250309T020000
TZOFFSETFROM:-0600
TZOFFSETTO:-0500
RDATE:20260308T020000
END:DAYLIGHT
END:VTIMEZONE
BEGIN:VEVENT
UID:b0853d58-de0c-40a0-aa9e-8ef22da772d0
DTSTAMP:20260422T235641Z
DESCRIPTION:
DTSTART;TZID=America/Chicago:20250709T100000
DTEND;TZID=America/Chicago:20250709T120000
LOCATION:
SUMMARY:Community Food Fair
END:VEVENT
END:VCALENDAR
