BEGIN:VCALENDAR
VERSION:2.0
PRODID:-//crossroadsatparkplace.org//NONSGML kigkonsult.se iCalcreator 2.30
 .10//
CALSCALE:GREGORIAN
METHOD:PUBLISH
UID:813cda17-33da-49a5-be16-db8d8798185c
X-WR-CALDESC:
X-WR-RELCALID:ea0baab5e628681de2e12db4fb7719e3
X-WR-TIMEZONE:America/Chicago
BEGIN:VTIMEZONE
TZID:America/Chicago
BEGIN:STANDARD
TZNAME:CST
DTSTART:20241103T020000
TZOFFSETFROM:-0500
TZOFFSETTO:-0600
RDATE:20251102T020000
RDATE:20261101T020000
END:STANDARD
BEGIN:DAYLIGHT
TZNAME:CDT
DTSTART:20250309T020000
TZOFFSETFROM:-0600
TZOFFSETTO:-0500
RDATE:20260308T020000
END:DAYLIGHT
END:VTIMEZONE
BEGIN:VEVENT
UID:36b4dd06-0cda-469a-ae68-550f03ff244e
DTSTAMP:20260422T235641Z
DESCRIPTION:
DTSTART;TZID=America/Chicago:20250730T100000
DTEND;TZID=America/Chicago:20250730T120000
LOCATION:
SUMMARY:Community Food Fair
END:VEVENT
END:VCALENDAR
