BEGIN:VCALENDAR
VERSION:2.0
PRODID:-//crossroadsatparkplace.org//NONSGML kigkonsult.se iCalcreator 2.30
 .10//
CALSCALE:GREGORIAN
METHOD:PUBLISH
UID:48fe20f0-92f9-4f8b-bc78-802cec45b52c
X-WR-CALDESC:
X-WR-RELCALID:59998a6282034f16dc61c6673e68b8d9
X-WR-TIMEZONE:America/Chicago
BEGIN:VTIMEZONE
TZID:America/Chicago
BEGIN:STANDARD
TZNAME:CST
DTSTART:20241103T020000
TZOFFSETFROM:-0500
TZOFFSETTO:-0600
RDATE:20251102T020000
RDATE:20261101T020000
END:STANDARD
BEGIN:DAYLIGHT
TZNAME:CDT
DTSTART:20250309T020000
TZOFFSETFROM:-0600
TZOFFSETTO:-0500
RDATE:20260308T020000
END:DAYLIGHT
END:VTIMEZONE
BEGIN:VEVENT
UID:38aec1b3-a984-4e0d-9bd0-075301bcbe9c
DTSTAMP:20260422T223446Z
DESCRIPTION:
DTSTART;TZID=America/Chicago:20250806T100000
DTEND;TZID=America/Chicago:20250806T120000
LOCATION:
SUMMARY:Community Food Fair
END:VEVENT
END:VCALENDAR
