BEGIN:VCALENDAR
VERSION:2.0
PRODID:-//crossroadsatparkplace.org//NONSGML kigkonsult.se iCalcreator 2.30
 .10//
CALSCALE:GREGORIAN
METHOD:PUBLISH
UID:32f1baca-1302-47c9-9327-55fbb3261e4f
X-WR-CALDESC:
X-WR-RELCALID:24fe7d0bb6fb1e58bb69297dacb312ee
X-WR-TIMEZONE:America/Chicago
BEGIN:VTIMEZONE
TZID:America/Chicago
BEGIN:STANDARD
TZNAME:CST
DTSTART:20241103T020000
TZOFFSETFROM:-0500
TZOFFSETTO:-0600
RDATE:20251102T020000
RDATE:20261101T020000
END:STANDARD
BEGIN:DAYLIGHT
TZNAME:CDT
DTSTART:20250309T020000
TZOFFSETFROM:-0600
TZOFFSETTO:-0500
RDATE:20260308T020000
END:DAYLIGHT
END:VTIMEZONE
BEGIN:VEVENT
UID:01822d31-8398-4183-9325-c94fb892e8c5
DTSTAMP:20260422T223344Z
DESCRIPTION:
DTSTART;TZID=America/Chicago:20250820T100000
DTEND;TZID=America/Chicago:20250820T120000
LOCATION:
SUMMARY:Community Food Fair
END:VEVENT
END:VCALENDAR
