BEGIN:VCALENDAR
VERSION:2.0
PRODID:-//crossroadsatparkplace.org//NONSGML kigkonsult.se iCalcreator 2.30
 .10//
CALSCALE:GREGORIAN
METHOD:PUBLISH
UID:fabb18f0-e48e-4a11-bd17-af46359a5991
X-WR-CALDESC:Since 2001\, Crossroads at Park Place (working out of St Paul'
 s Episcopal Church at 7843 Park Place Blvd\, Houston\, Texas 77087) has be
 en a Christian organization committed to promoting the health\, hygiene an
 d dignity of persons experiencing homelessness and poverty in South Housto
 n\, Texas. We provide: a safe haven for compassion and companionship\, a H
 ouston Food Bank-supported food distribution every Wednesday morning\, nut
 ritious breakfasts\, lunches and boxed lunches during the week\, showers\,
  hygiene packs\, laundry\, and a myriad of other services. Go to https://c
 rossroadsatparkplace.org/ for more...
X-WR-RELCALID:327b21a69b3968e699cc237dc5aadb5e
X-WR-TIMEZONE:America/Chicago
BEGIN:VTIMEZONE
TZID:America/Chicago
BEGIN:STANDARD
TZNAME:CST
DTSTART:20241103T020000
TZOFFSETFROM:-0500
TZOFFSETTO:-0600
RDATE:20251102T020000
RDATE:20261101T020000
END:STANDARD
BEGIN:DAYLIGHT
TZNAME:CDT
DTSTART:20250309T020000
TZOFFSETFROM:-0600
TZOFFSETTO:-0500
RDATE:20260308T020000
RDATE:20270314T020000
END:DAYLIGHT
END:VTIMEZONE
BEGIN:VEVENT
UID:fb49438f-3776-486a-ae73-206670ae20db
DTSTAMP:20260422T211145Z
DESCRIPTION:Since 2001\, Crossroads at Park Place (working out of St Paul's
  Episcopal Church at 7843 Park Place Blvd\, Houston\, Texas 77087) has bee
 n a Christian organization committed to promoting the health\, hygiene and
  dignity of persons experiencing homelessness and poverty in South Houston
 \, Texas. We provide: a safe haven for compassion and companionship\, a Ho
 uston Food Bank-supported food distribution every Wednesday morning\, nutr
 itious breakfasts\, lunches and boxed lunches during the week\, showers\, 
 hygiene packs\, laundry\, and a myriad of other services. Go to https://cr
 ossroadsatparkplace.org/ for more...
DTSTART;TZID=America/Chicago:20250922T080000
DTEND;TZID=America/Chicago:20250922T143000
LOCATION:Bay Oaks Country Club\, 14545 Bay Oaks Blvd\, Houston\, TX 77059 U
 S
SUMMARY:2025 Charity Golf Tournament
END:VEVENT
END:VCALENDAR
