BEGIN:VCALENDAR
VERSION:2.0
PRODID:-//crossroadsatparkplace.org//NONSGML kigkonsult.se iCalcreator 2.30
 .10//
CALSCALE:GREGORIAN
METHOD:PUBLISH
UID:f85db700-7dd8-45a9-bc28-6e3e5567cfcf
X-WR-CALDESC:
X-WR-RELCALID:89c7e3aadf8e27398be6771199615e8c
X-WR-TIMEZONE:America/Chicago
BEGIN:VTIMEZONE
TZID:America/Chicago
BEGIN:STANDARD
TZNAME:CST
DTSTART:20241103T020000
TZOFFSETFROM:-0500
TZOFFSETTO:-0600
RDATE:20251102T020000
RDATE:20261101T020000
END:STANDARD
BEGIN:DAYLIGHT
TZNAME:CDT
DTSTART:20250309T020000
TZOFFSETFROM:-0600
TZOFFSETTO:-0500
RDATE:20260308T020000
RDATE:20270314T020000
END:DAYLIGHT
END:VTIMEZONE
BEGIN:VEVENT
UID:a495abe3-3a4a-4a36-8031-c5d7fe903aa4
DTSTAMP:20260422T210635Z
DESCRIPTION:
DTSTART;TZID=America/Chicago:20250923T070000
DTEND;TZID=America/Chicago:20250923T120000
LOCATION:
SUMMARY:Full Service in Operation
END:VEVENT
END:VCALENDAR
