BEGIN:VCALENDAR
VERSION:2.0
PRODID:-//crossroadsatparkplace.org//NONSGML kigkonsult.se iCalcreator 2.30
 .10//
CALSCALE:GREGORIAN
METHOD:PUBLISH
UID:e5a10e6e-4028-436c-9204-095460156f9f
X-WR-CALDESC:
X-WR-RELCALID:c4dca362705363c8f198c022bf56bdfd
X-WR-TIMEZONE:America/Chicago
BEGIN:VTIMEZONE
TZID:America/Chicago
BEGIN:STANDARD
TZNAME:CST
DTSTART:20241103T020000
TZOFFSETFROM:-0500
TZOFFSETTO:-0600
RDATE:20251102T020000
RDATE:20261101T020000
END:STANDARD
BEGIN:DAYLIGHT
TZNAME:CDT
DTSTART:20250309T020000
TZOFFSETFROM:-0600
TZOFFSETTO:-0500
RDATE:20260308T020000
RDATE:20270314T020000
END:DAYLIGHT
END:VTIMEZONE
BEGIN:VEVENT
UID:f363a58f-0809-4a62-844c-4d5af312eaa5
DTSTAMP:20260422T193259Z
DESCRIPTION:
DTSTART;TZID=America/Chicago:20251029T100000
DTEND;TZID=America/Chicago:20251029T120000
LOCATION:
SUMMARY:Community Food Fair
END:VEVENT
END:VCALENDAR
