BEGIN:VCALENDAR
VERSION:2.0
PRODID:-//crossroadsatparkplace.org//NONSGML kigkonsult.se iCalcreator 2.30
 .10//
CALSCALE:GREGORIAN
METHOD:PUBLISH
UID:58cf813f-0985-46a1-8c9b-18f9dda01f07
X-WR-CALDESC:
X-WR-RELCALID:2741c03c12f0fc1e10b69e496e375d69
X-WR-TIMEZONE:America/Chicago
BEGIN:VTIMEZONE
TZID:America/Chicago
BEGIN:STANDARD
TZNAME:CST
DTSTART:20251102T020000
TZOFFSETFROM:-0500
TZOFFSETTO:-0600
RDATE:20261101T020000
END:STANDARD
BEGIN:DAYLIGHT
TZNAME:CDT
DTSTART:20250309T020000
TZOFFSETFROM:-0600
TZOFFSETTO:-0500
RDATE:20260308T020000
RDATE:20270314T020000
END:DAYLIGHT
END:VTIMEZONE
BEGIN:VEVENT
UID:569e92ae-2da6-4320-a598-bc56ddc03f61
DTSTAMP:20260422T183447Z
DESCRIPTION:
DTSTART;TZID=America/Chicago:20251126T100000
DTEND;TZID=America/Chicago:20251126T120000
LOCATION:
SUMMARY:Community Food Fair
END:VEVENT
END:VCALENDAR
