BEGIN:VCALENDAR
VERSION:2.0
PRODID:-//crossroadsatparkplace.org//NONSGML kigkonsult.se iCalcreator 2.30
 .10//
CALSCALE:GREGORIAN
METHOD:PUBLISH
UID:72ac0bdd-dac5-4b4a-8776-dd02dd9b65f2
X-WR-CALDESC:
X-WR-RELCALID:8f733e3c48dc0afa1a6542aebc3fe1a5
X-WR-TIMEZONE:America/Chicago
BEGIN:VTIMEZONE
TZID:America/Chicago
BEGIN:STANDARD
TZNAME:CST
DTSTART:20251102T020000
TZOFFSETFROM:-0500
TZOFFSETTO:-0600
RDATE:20261101T020000
END:STANDARD
BEGIN:DAYLIGHT
TZNAME:CDT
DTSTART:20250309T020000
TZOFFSETFROM:-0600
TZOFFSETTO:-0500
RDATE:20260308T020000
RDATE:20270314T020000
END:DAYLIGHT
END:VTIMEZONE
BEGIN:VEVENT
UID:a5cb5979-b246-4d95-a5c7-7957638a05a7
DTSTAMP:20260422T170911Z
DESCRIPTION:
DTSTART;TZID=America/Chicago:20251203T100000
DTEND;TZID=America/Chicago:20251203T120000
LOCATION:
SUMMARY:Community Food Fair
END:VEVENT
END:VCALENDAR
