BEGIN:VCALENDAR
VERSION:2.0
PRODID:-//crossroadsatparkplace.org//NONSGML kigkonsult.se iCalcreator 2.30
 .10//
CALSCALE:GREGORIAN
METHOD:PUBLISH
UID:157c8b0c-0abd-4f8d-8343-5fef0fbd39a7
X-WR-CALDESC:
X-WR-RELCALID:51848e6c7a35be6c86d65cae323fc9d4
X-WR-TIMEZONE:America/Chicago
BEGIN:VTIMEZONE
TZID:America/Chicago
BEGIN:STANDARD
TZNAME:CST
DTSTART:20251102T020000
TZOFFSETFROM:-0500
TZOFFSETTO:-0600
RDATE:20261101T020000
END:STANDARD
BEGIN:DAYLIGHT
TZNAME:CDT
DTSTART:20250309T020000
TZOFFSETFROM:-0600
TZOFFSETTO:-0500
RDATE:20260308T020000
RDATE:20270314T020000
END:DAYLIGHT
END:VTIMEZONE
BEGIN:VEVENT
UID:992efa39-79cd-4438-a2ec-1b76b4a8a7ae
DTSTAMP:20260422T171619Z
DESCRIPTION:
DTSTART;TZID=America/Chicago:20251217T100000
DTEND;TZID=America/Chicago:20251217T120000
LOCATION:
SUMMARY:Community Food Fair
END:VEVENT
END:VCALENDAR
